BEGIN:VCALENDAR
VERSION:2.0
PRODID:-//Bezinning GK - ECPv6.15.20//NONSGML v1.0//EN
CALSCALE:GREGORIAN
METHOD:PUBLISH
X-WR-CALNAME:Bezinning GK
X-ORIGINAL-URL:https://bezinninggkv.nl
X-WR-CALDESC:Evenementen voor Bezinning GK
REFRESH-INTERVAL;VALUE=DURATION:PT1H
X-Robots-Tag:noindex
X-PUBLISHED-TTL:PT1H
BEGIN:VTIMEZONE
TZID:Europe/Amsterdam
BEGIN:DAYLIGHT
TZOFFSETFROM:+0100
TZOFFSETTO:+0200
TZNAME:CEST
DTSTART:20210328T010000
END:DAYLIGHT
BEGIN:STANDARD
TZOFFSETFROM:+0200
TZOFFSETTO:+0100
TZNAME:CET
DTSTART:20211031T010000
END:STANDARD
BEGIN:DAYLIGHT
TZOFFSETFROM:+0100
TZOFFSETTO:+0200
TZNAME:CEST
DTSTART:20220327T010000
END:DAYLIGHT
BEGIN:STANDARD
TZOFFSETFROM:+0200
TZOFFSETTO:+0100
TZNAME:CET
DTSTART:20221030T010000
END:STANDARD
BEGIN:DAYLIGHT
TZOFFSETFROM:+0100
TZOFFSETTO:+0200
TZNAME:CEST
DTSTART:20230326T010000
END:DAYLIGHT
BEGIN:STANDARD
TZOFFSETFROM:+0200
TZOFFSETTO:+0100
TZNAME:CET
DTSTART:20231029T010000
END:STANDARD
BEGIN:DAYLIGHT
TZOFFSETFROM:+0100
TZOFFSETTO:+0200
TZNAME:CEST
DTSTART:20240331T010000
END:DAYLIGHT
BEGIN:STANDARD
TZOFFSETFROM:+0200
TZOFFSETTO:+0100
TZNAME:CET
DTSTART:20241027T010000
END:STANDARD
BEGIN:DAYLIGHT
TZOFFSETFROM:+0100
TZOFFSETTO:+0200
TZNAME:CEST
DTSTART:20250330T010000
END:DAYLIGHT
BEGIN:STANDARD
TZOFFSETFROM:+0200
TZOFFSETTO:+0100
TZNAME:CET
DTSTART:20251026T010000
END:STANDARD
END:VTIMEZONE
BEGIN:VEVENT
DTSTART;TZID=Europe/Amsterdam:20240525T100000
DTEND;TZID=Europe/Amsterdam:20240525T150000
DTSTAMP:20260425T164142
CREATED:20240506T004638Z
LAST-MODIFIED:20240506T005637Z
UID:2104-1716631200-1716649200@bezinninggkv.nl
SUMMARY:Studie- en ontmoetingsdag 25 mei 2024
DESCRIPTION:Op DV zaterdag 25 mei 2024 organiseert de Kerngroep bezinning GK een nieuwe studie- en ontmoetingsdag. Deze keer weer op Urk.\n’s Morgens gaat het over het ingrijpende thema van Bijbel en homoseksualiteit. Met name de vraag hoe de Bijbel wordt gebruikt in het rapport Ruimte en richting van de NGK komt hier aan de orde. Spreker is dr. M. Klaassen.\n’s Middags wordt een forumgesprek gehouden over hoe we met elkaar concreet onder de zegen van de Here kunnen werken aan een hernieuwde gereformeerde kerkelijke eenheid op basis van Bijbel en belijdenis. Dit gesprek staat o.l.v. mr. dr. Pieter Pel.\nOok wordt dan het nieuwe boek van dr. Harry Wendt\, Volk van de Heer\, gepresenteerd.\nEen dag met zeer actuele onderwerpen in de huidige kerkelijke omstandigheden. Lees hier de verdere informatie.
URL:https://bezinninggkv.nl/agenda/studie-en-ontmoetingsdag-25-mei-2024/
LOCATION:Rehobothkerk\, Nagel 32\, Urk\, 8321RG\, Nederland
CATEGORIES:Kerngroep activiteit
END:VEVENT
BEGIN:VEVENT
DTSTART;TZID=Europe/Amsterdam:20230923T100000
DTEND;TZID=Europe/Amsterdam:20230923T150000
DTSTAMP:20260425T164142
CREATED:20230809T212514Z
LAST-MODIFIED:20230810T121740Z
UID:1279-1695463200-1695481200@bezinninggkv.nl
SUMMARY:Studiedag en ontmoeting 23 september 2023
DESCRIPTION:Op DV zaterdag 23 september 2023 organiseert de Kerngroep bezinning GKv een nieuwe studie- en ontmoetingsdag. Hoofdspreker is prof. dr. H.J. Selderhuis\, hoogleraar aan de Theologische Universiteit te Apeldoorn. Hij hoopt te spreken over de normatieve betekenis van een gereformeerde kerkorde en van daaruit specifiek over de aard en betekenis van het kerkverband. Een zeer actueel thema in de huidige kerkelijke omstandigheden. Lees hier de verdere informatie.
URL:https://bezinninggkv.nl/agenda/studiedag-en-ontmoeting-23-september-2023/
LOCATION:Rehobothkerk Ermelo\, Dirk Staalweg 43\, Ermelo\, 3851LH\, Nederland
CATEGORIES:Kerngroep activiteit
ORGANIZER;CN="Kerngroep bezinning GKv":MAILTO:info@bezinninggkv.nl
END:VEVENT
BEGIN:VEVENT
DTSTART;TZID=Europe/Amsterdam:20230513T100000
DTEND;TZID=Europe/Amsterdam:20230513T140000
DTSTAMP:20260425T164142
CREATED:20230506T164903Z
LAST-MODIFIED:20230607T203440Z
UID:1187-1683972000-1683986400@bezinninggkv.nl
SUMMARY:UITNODIGING ONTMOETING 13 MEI 2023
DESCRIPTION:Kerngroep bezinning GKv \n  \nBeste broeders en zusters\, \nWaarom. U ontvangt deze uitnodiging omdat u eerder een studiedag of regiovergadering van de Kerngroep bezinning GKv hebt bijgewoond. \nVoor wie.  Deze mail is bestemd voor ieder die overweegt dat zijn/haar plaats niet kan zijn in de fusiekerk NGK\, maar voor wie het (nog) niet duidelijk is bij welke kerk/groep zich dan aan te sluiten. \nBedoeling.  Wij willen u als bezwaarde broeders en zusters graag uitnodigen voor een besloten bijeenkomst die we organiseren op zaterdag 13 mei 2023 in Hoevelaken. Daar hopen we met elkaar te spreken over de mogelijkheden die er zijn voor hen die niet mee kunnen gaan in de fusiekerk NGK. We willen daarover concreet met elkaar in gesprek gaan. \nVisie.  De Kerngroep staat in nauw contact met de 3 GKv-gemeenten die niet met de fusie meegaan. GKv Urk en Capelle-Noord hebben hun visie neergelegd in een Verklaring van samenwerking. Zie de website www.bezinninggkv.nl. Ook de Kerngroep heeft zich uitvoerig beraden over een zoveel mogelijk gezamenlijk te bewandelen weg. \nBijeenkomst.  Het is kort dag\, we beseffen het. Toch willen we graag met u\, als u past in onze doelgroep\, in gesprek. We willen dat in een besloten bijeenkomst doen om ons samen echt te kunnen concentreren op vervolgstappen. Vanwege die beslotenheid is het absoluut nodig dat u zich\, als u wilt deelnemen\, vooraf per email opgeeft. Wilt u dan ook uw woonplaats vermelden? Graag alle namen als u de aanmelding voor meerderen doet. Het aantal plaatsen is beperkt\, het is dus verstandig zo spoedig mogelijk te reageren. Voor een lunch wordt gezorgd tegen billijke kosten. Geeft u ook aan als u geen gebruik wilt maken van de lunch? \nOns gebed is dat deze ontmoeting ons mag helpen in de roeping om zich bij de kerk te voegen naar we belijden in artikel 27-29 NGB. \n  \nDatum/tijd : zaterdag 13 mei 2023 vanaf 10:00 uur\nLocatie        : De Stuw\, De Brink 10\, 3871 AM Hoevelaken \nAanmelden : rt.pos@casema.nl
URL:https://bezinninggkv.nl/agenda/uitnodiging-ontmoeting-13-mei-2023/
LOCATION:Dorpshuis De Stuw\, Brink 10\, Hoevelaken\, Nederland
CATEGORIES:Kerngroep activiteit
ATTACH;FMTTYPE=image/jpeg:https://bezinninggkv.nl/wp-content/uploads/2023/05/Bidden-2022.jpg
END:VEVENT
BEGIN:VEVENT
DTSTART;TZID=Europe/Amsterdam:20230223T194500
DTEND;TZID=Europe/Amsterdam:20230223T220000
DTSTAMP:20260425T164142
CREATED:20230105T231436Z
LAST-MODIFIED:20230315T103043Z
UID:954-1677181500-1677189600@bezinninggkv.nl
SUMMARY:Regioavond Goes
DESCRIPTION:Door de Werkgroep Regioavonden zijn 9 regionale bezinningsavonden gepland. \nDe avonden beginnen om 19.45 uur en duren tot ca. 22.00 uur. \nDoel: bezinning en verbinding. \nAan de hand van het pas verschenen boek Het Woord in geding willen we in gesprek gaan over de ontwikkelingen die momenteel spelen binnen het GKv-kerkverband. En over hoe we als verontruste GKv-leden elkaar kunnen steunen om in de huidige kerkelijke context samen gereformeerd te blijven. \nKlik hier voor meer informatie
URL:https://bezinninggkv.nl/agenda/regioavond-goes/
LOCATION:Maranathakerk Goes\, Bergweg 43A\, Goes\, 4461LX
CATEGORIES:Kerngroep activiteit
ORGANIZER;CN="Werkgroep Regioavonden":MAILTO:info@bezinninggkv.nl
END:VEVENT
BEGIN:VEVENT
DTSTART;TZID=Europe/Amsterdam:20230216T194500
DTEND;TZID=Europe/Amsterdam:20230216T220000
DTSTAMP:20260425T164142
CREATED:20230105T231325Z
LAST-MODIFIED:20230315T103102Z
UID:951-1676576700-1676584800@bezinninggkv.nl
SUMMARY:Regioavond Gouda
DESCRIPTION:Door de Werkgroep Regioavonden zijn 9 regionale bezinningsavonden gepland. \nDe avonden beginnen om 19.45 uur en duren tot ca. 22.00 uur. \nDoel: bezinning en verbinding. \nAan de hand van het pas verschenen boek Het Woord in geding willen we in gesprek gaan over de ontwikkelingen die momenteel spelen binnen het GKv-kerkverband. En over hoe we als verontruste GKv-leden elkaar kunnen steunen om in de huidige kerkelijke context samen gereformeerd te blijven. \nKlik hier voor meer informatie
URL:https://bezinninggkv.nl/agenda/regioavond-gouda/
LOCATION:Pauluskerk\, Van Hogendorpplein 2\, Gouda\, 2805BM
CATEGORIES:Kerngroep activiteit
ORGANIZER;CN="Werkgroep Regioavonden":MAILTO:info@bezinninggkv.nl
END:VEVENT
BEGIN:VEVENT
DTSTART;TZID=Europe/Amsterdam:20230214T194500
DTEND;TZID=Europe/Amsterdam:20230214T220000
DTSTAMP:20260425T164142
CREATED:20230105T231151Z
LAST-MODIFIED:20230315T103117Z
UID:948-1676403900-1676412000@bezinninggkv.nl
SUMMARY:Regioavond 's-Hertogenbosch
DESCRIPTION:Door de Werkgroep Regioavonden zijn 9 regionale bezinningsavonden gepland. \nDe avonden beginnen om 19.45 uur en duren tot ca. 22.00 uur. \nDoel: bezinning en verbinding. \nAan de hand van het pas verschenen boek Het Woord in geding willen we in gesprek gaan over de ontwikkelingen die momenteel spelen binnen het GKv-kerkverband. En over hoe we als verontruste GKv-leden elkaar kunnen steunen om in de huidige kerkelijke context samen gereformeerd te blijven. \nKlik hier voor meer informatie
URL:https://bezinninggkv.nl/agenda/regioavond-s-hertogenbosch/
LOCATION:Kerkgebouw\, Evertsenstraat 35\, 's-Hertogenbosch\, 5224HN
CATEGORIES:Kerngroep activiteit
ORGANIZER;CN="Werkgroep Regioavonden":MAILTO:info@bezinninggkv.nl
END:VEVENT
BEGIN:VEVENT
DTSTART;TZID=Europe/Amsterdam:20230209T194500
DTEND;TZID=Europe/Amsterdam:20230209T220000
DTSTAMP:20260425T164142
CREATED:20230105T231019Z
LAST-MODIFIED:20230315T103132Z
UID:945-1675971900-1675980000@bezinninggkv.nl
SUMMARY:Regioavond Bunschoten-Spakenburg
DESCRIPTION:Door de Werkgroep Regioavonden zijn 9 regionale bezinningsavonden gepland. \nDe avonden beginnen om 19.45 uur en duren tot ca. 22.00 uur. \nDoel: bezinning en verbinding. \nAan de hand van het pas verschenen boek Het Woord in geding willen we in gesprek gaan over de ontwikkelingen die momenteel spelen binnen het GKv-kerkverband. En over hoe we als verontruste GKv-leden elkaar kunnen steunen om in de huidige kerkelijke context samen gereformeerd te blijven. \nKlik hier voor meer informatie
URL:https://bezinninggkv.nl/agenda/regioavond-bunschoten-spakenburg/
LOCATION:De Fontein\, Bikkersweg 7\, Bunschoten-Spakenburg\, 3752WV
CATEGORIES:Kerngroep activiteit
ORGANIZER;CN="Werkgroep Regioavonden":MAILTO:info@bezinninggkv.nl
END:VEVENT
BEGIN:VEVENT
DTSTART;TZID=Europe/Amsterdam:20230207T194500
DTEND;TZID=Europe/Amsterdam:20230207T220000
DTSTAMP:20260425T164142
CREATED:20230105T230905Z
LAST-MODIFIED:20230315T103147Z
UID:942-1675799100-1675807200@bezinninggkv.nl
SUMMARY:Regioavond Apeldoorn
DESCRIPTION:Door de Werkgroep Regioavonden zijn 9 regionale bezinningsavonden gepland. \nDe avonden beginnen om 19.45 uur en duren tot ca. 22.00 uur. \nDoel: bezinning en verbinding. \nAan de hand van het pas verschenen boek Het Woord in geding willen we in gesprek gaan over de ontwikkelingen die momenteel spelen binnen het GKv-kerkverband. En over hoe we als verontruste GKv-leden elkaar kunnen steunen om in de huidige kerkelijke context samen gereformeerd te blijven. \nKlik hier voor meer informatie
URL:https://bezinninggkv.nl/agenda/regioavond-apeldoorn/
LOCATION:Eben Haëzerkerk\, Zonnedauw 8\, Apeldoorn\, 7322EC
CATEGORIES:Kerngroep activiteit
ORGANIZER;CN="Werkgroep Regioavonden":MAILTO:info@bezinninggkv.nl
END:VEVENT
BEGIN:VEVENT
DTSTART;TZID=Europe/Amsterdam:20230202T194500
DTEND;TZID=Europe/Amsterdam:20230202T220000
DTSTAMP:20260425T164142
CREATED:20230105T230445Z
LAST-MODIFIED:20230315T103213Z
UID:938-1675367100-1675375200@bezinninggkv.nl
SUMMARY:Regioavond Hardenberg
DESCRIPTION:Door de Werkgroep Regioavonden zijn 9 regionale bezinningsavonden gepland. \nDe avonden beginnen om 19.45 uur en duren tot ca. 22.00 uur. \nDoel: bezinning en verbinding. \nAan de hand van het pas verschenen boek Het Woord in geding willen we in gesprek gaan over de ontwikkelingen die momenteel spelen binnen het GKv-kerkverband. En over hoe we als verontruste GKv-leden elkaar kunnen steunen om in de huidige kerkelijke context samen gereformeerd te blijven. \nKlik hier voor meer informatie
URL:https://bezinninggkv.nl/agenda/regioavond-hardenberg/
LOCATION:Höftekerk\, Lage Doelen 3\, Hardenberg\, 7772BL
CATEGORIES:Kerngroep activiteit
ORGANIZER;CN="Werkgroep Regioavonden":MAILTO:info@bezinninggkv.nl
END:VEVENT
BEGIN:VEVENT
DTSTART;TZID=Europe/Amsterdam:20230126T194500
DTEND;TZID=Europe/Amsterdam:20230126T220000
DTSTAMP:20260425T164142
CREATED:20230105T230233Z
LAST-MODIFIED:20230315T103229Z
UID:934-1674762300-1674770400@bezinninggkv.nl
SUMMARY:Regioavond Meppel
DESCRIPTION:Door de Werkgroep Regioavonden zijn 9 regionale bezinningsavonden gepland. \nDe avonden beginnen om 19.45 uur en duren tot ca. 22.00 uur. \nDoel: bezinning en verbinding. \nAan de hand van het pas verschenen boek Het Woord in geding willen we in gesprek gaan over de ontwikkelingen die momenteel spelen binnen het GKv-kerkverband. En over hoe we als verontruste GKv-leden elkaar kunnen steunen om in de huidige kerkelijke context samen gereformeerd te blijven. \nKlik hier voor meer informatie
URL:https://bezinninggkv.nl/agenda/regioavond-meppel/
LOCATION:De Samenstroom\, Groenmarktstraat 2\, Meppel\, 7941KS
CATEGORIES:Kerngroep activiteit
ORGANIZER;CN="Werkgroep Regioavonden":MAILTO:info@bezinninggkv.nl
END:VEVENT
BEGIN:VEVENT
DTSTART;TZID=Europe/Amsterdam:20230124T194500
DTEND;TZID=Europe/Amsterdam:20230124T220000
DTSTAMP:20260425T164142
CREATED:20230105T225725Z
LAST-MODIFIED:20230315T103249Z
UID:927-1674589500-1674597600@bezinninggkv.nl
SUMMARY:Regioavond Groningen
DESCRIPTION:Door de Werkgroep Regioavonden zijn 9 regionale bezinningsavonden gepland. \nDe avonden beginnen om 19.45 uur en duren tot ca. 22.00 uur. \nDoel: bezinning en verbinding. \nAan de hand van het pas verschenen boek Het Woord in geding willen we in gesprek gaan over de ontwikkelingen die momenteel spelen binnen het GKv-kerkverband. En over hoe we als verontruste GKv-leden elkaar kunnen steunen om in de huidige kerkelijke context samen gereformeerd te blijven. \nKlik hier voor meer informatie
URL:https://bezinninggkv.nl/agenda/regioavond-groningen/
LOCATION:Maranathakerk Groningen\, Van Lenneplaan 97\, Groningen\, 9721PE
CATEGORIES:Kerngroep activiteit
ORGANIZER;CN="Werkgroep Regioavonden":MAILTO:info@bezinninggkv.nl
END:VEVENT
BEGIN:VEVENT
DTSTART;TZID=Europe/Amsterdam:20230119T194500
DTEND;TZID=Europe/Amsterdam:20230119T220000
DTSTAMP:20260425T164142
CREATED:20230105T224840Z
LAST-MODIFIED:20230315T103305Z
UID:899-1674157500-1674165600@bezinninggkv.nl
SUMMARY:Regioavond Drachten
DESCRIPTION:Door de Werkgroep Regioavonden zijn 9 regionale bezinningsavonden gepland. \nDe avonden beginnen om 19.45 uur en duren tot ca. 22.00 uur. \nDoel: bezinning en verbinding. \nAan de hand van het pas verschenen boek Het Woord in geding willen we in gesprek gaan over de ontwikkelingen die momenteel spelen binnen het GKv-kerkverband. En over hoe we als verontruste GKv-leden elkaar kunnen steunen om in de huidige kerkelijke context samen gereformeerd te blijven. \nKlik hier voor meer informatie
URL:https://bezinninggkv.nl/agenda/regioavond-drachten/
LOCATION:Kapelkerk\, Berglaan 10\, Drachten\, 9203EG
CATEGORIES:Kerngroep activiteit
ORGANIZER;CN="Werkgroep Regioavonden":MAILTO:info@bezinninggkv.nl
END:VEVENT
BEGIN:VEVENT
DTSTART;TZID=Europe/Amsterdam:20221119T094500
DTEND;TZID=Europe/Amsterdam:20221119T150000
DTSTAMP:20260425T164142
CREATED:20221107T090044Z
LAST-MODIFIED:20230315T103321Z
UID:602-1668851100-1668870000@bezinninggkv.nl
SUMMARY:Studie- en ontmoetingsdag Urk
DESCRIPTION:‘s Morgens: de nieuwe Kerkorde van de fusiekerk GKv – NGK: \n\nds. Jan Wesseling: Kerkorde tegen het Licht\ndr. Bart van Egmond: De vrijheid van Christus’ gemeente. Binding aan de gereformeerde belijdenis in de fusiekerk\nmr. dr. Pieter Pel: KO 2023 OK?\n\n  \n’s Middags: presentatie Kerngroep bezinning GKv: \n\nWaar staan we voor\nWelke perspectieven zien we\nPublicatie ‘Het Woord in geding’\n\n  \nTijd           : 9.45 uur (v.a. 9.00 uur koffie) tot 15.00 uur \nLocatie   : Rehobothkerk\, Nagel 32\, Urk \nLunch     : voor kostprijs (denk om aanmelding) \nAanmelden: info@bezinninggkv.nl
URL:https://bezinninggkv.nl/agenda/vergadering/
LOCATION:Rehobothkerk\, Nagel 32\, Urk\, 8321RG\, Nederland
CATEGORIES:Kerngroep activiteit
ORGANIZER;CN="Kerngroep bezinning GKv":MAILTO:info@bezinninggkv.nl
END:VEVENT
END:VCALENDAR